BEGIN:VCALENDAR
VERSION:2.0
PRODID:-//Harbor Lights - Warwick, Rhode Island - ECPv6.15.15//NONSGML v1.0//EN
CALSCALE:GREGORIAN
METHOD:PUBLISH
X-ORIGINAL-URL:https://harborlightsri.com
X-WR-CALDESC:Events for Harbor Lights - Warwick, Rhode Island
REFRESH-INTERVAL;VALUE=DURATION:PT1H
X-Robots-Tag:noindex
X-PUBLISHED-TTL:PT1H
BEGIN:VTIMEZONE
TZID:America/New_York
BEGIN:DAYLIGHT
TZOFFSETFROM:-0500
TZOFFSETTO:-0400
TZNAME:EDT
DTSTART:20240310T070000
END:DAYLIGHT
BEGIN:STANDARD
TZOFFSETFROM:-0400
TZOFFSETTO:-0500
TZNAME:EST
DTSTART:20241103T060000
END:STANDARD
BEGIN:DAYLIGHT
TZOFFSETFROM:-0500
TZOFFSETTO:-0400
TZNAME:EDT
DTSTART:20250309T070000
END:DAYLIGHT
BEGIN:STANDARD
TZOFFSETFROM:-0400
TZOFFSETTO:-0500
TZNAME:EST
DTSTART:20251102T060000
END:STANDARD
BEGIN:DAYLIGHT
TZOFFSETFROM:-0500
TZOFFSETTO:-0400
TZNAME:EDT
DTSTART:20260308T070000
END:DAYLIGHT
BEGIN:STANDARD
TZOFFSETFROM:-0400
TZOFFSETTO:-0500
TZNAME:EST
DTSTART:20261101T060000
END:STANDARD
BEGIN:DAYLIGHT
TZOFFSETFROM:-0500
TZOFFSETTO:-0400
TZNAME:EDT
DTSTART:20270314T070000
END:DAYLIGHT
BEGIN:STANDARD
TZOFFSETFROM:-0400
TZOFFSETTO:-0500
TZNAME:EST
DTSTART:20271107T060000
END:STANDARD
END:VTIMEZONE
BEGIN:VEVENT
DTSTART;TZID=America/New_York:20250704T190000
DTEND;TZID=America/New_York:20250704T230000
DTSTAMP:20260419T162157
CREATED:20250620T201157Z
LAST-MODIFIED:20250620T201157Z
UID:1426-1751655600-1751670000@harborlightsri.com
SUMMARY:Live Music: One2One
DESCRIPTION:Its the 4th of JULY!  Join us at our Drift Bar by the Pool and enjoy the amazing music and vocals by One2One! Show up\, have some cocktails\, grab a bite from our Drift Food Truck\, and party the night away! The band plays 7:00-11 pm.  Sea You There!
URL:https://harborlightsri.com/events/live-music-one2one/
LOCATION:Harbor Lights\, 150 Gray Street\, Warwick\, RI\, 02889
CATEGORIES:Drift Bar,Live Music
ATTACH;FMTTYPE=image/png:https://harborlightsri.com/wp-content/uploads/sites/60/2025/06/catching-blue-6.png
END:VEVENT
BEGIN:VEVENT
DTSTART;TZID=America/New_York:20250705T190000
DTEND;TZID=America/New_York:20250705T230000
DTSTAMP:20260419T162157
CREATED:20250620T200939Z
LAST-MODIFIED:20250620T200939Z
UID:1424-1751742000-1751756400@harborlightsri.com
SUMMARY:Live Music: Amber Rose & the Renegades
DESCRIPTION:Join us at our Drift Bar by the Pool and enjoy the amazing music and vocals by Amber Rose & the Renegades! Show up\, have some cocktails\, grab a bite from our Drift Food Truck\, and party the night away! The band plays 7 -11 pm.
URL:https://harborlightsri.com/events/live-music-amber-rose-the-renegades-3/
LOCATION:Harbor Lights\, 150 Gray Street\, Warwick\, RI\, 02889
CATEGORIES:Drift Bar,Live Music
ATTACH;FMTTYPE=image/png:https://harborlightsri.com/wp-content/uploads/sites/60/2025/05/catching-blue-1.png
END:VEVENT
BEGIN:VEVENT
DTSTART;TZID=America/New_York:20250711T190000
DTEND;TZID=America/New_York:20250711T230000
DTSTAMP:20260419T162157
CREATED:20250630T195231Z
LAST-MODIFIED:20250630T195231Z
UID:1457-1752260400-1752274800@harborlightsri.com
SUMMARY:Live Music: All Or Nothing
DESCRIPTION:Join us at our Drift Bar by the Pool and enjoy the amazing music by All or Nothing Band! Show up\, have some cocktails\, grab a bite from our Drift Food Truck\, and party the night away! The band plays 7:00-11 pm.
URL:https://harborlightsri.com/events/live-music-all-or-nothing-3/
LOCATION:Harbor Lights\, 150 Gray Street\, Warwick\, RI\, 02889
CATEGORIES:Drift Bar,Live Music
ATTACH;FMTTYPE=image/png:https://harborlightsri.com/wp-content/uploads/sites/60/2025/05/catching-blue-7.png
END:VEVENT
BEGIN:VEVENT
DTSTART;TZID=America/New_York:20250712T190000
DTEND;TZID=America/New_York:20250712T230000
DTSTAMP:20260419T162157
CREATED:20250630T194912Z
LAST-MODIFIED:20250630T194912Z
UID:1455-1752346800-1752361200@harborlightsri.com
SUMMARY:Live Music: The Manatees at Drift Bar
DESCRIPTION:Join us on Saturday\, July 12th and enjoy the amazing dance music by The Manatees! Show up\, have some cocktails\, grab a bite from our fabulous new menu and party the night away! The band plays 7 – 11pm…see you there!
URL:https://harborlightsri.com/events/live-music-the-manatees-at-drift-bar-3/
LOCATION:Harbor Lights\, 150 Gray Street\, Warwick\, RI\, 02889
CATEGORIES:Drift Bar,Live Music
ATTACH;FMTTYPE=image/png:https://harborlightsri.com/wp-content/uploads/sites/60/2025/05/catching-blue-3-1.png
END:VEVENT
BEGIN:VEVENT
DTSTART;TZID=America/New_York:20250718T190000
DTEND;TZID=America/New_York:20250718T223000
DTSTAMP:20260419T162157
CREATED:20250630T194605Z
LAST-MODIFIED:20250630T195328Z
UID:1451-1752865200-1752877800@harborlightsri.com
SUMMARY:Live Music: Northeast Groove at Drift Bar
DESCRIPTION:Join us at Drift Bar and enjoy the amazing dance music by Northeast Groove! Show up\, have some cocktails\, grab a bite from our fabulous new menu and party the night away! The band plays 7 – 10:30pm…see you there!
URL:https://harborlightsri.com/events/live-music-northeast-groove-at-drift-bar-2/
LOCATION:Harbor Lights\, 150 Gray Street\, Warwick\, RI\, 02889
CATEGORIES:Drift Bar,Live Music
ATTACH;FMTTYPE=image/png:https://harborlightsri.com/wp-content/uploads/sites/60/2025/05/catching-blue-2-1.png
END:VEVENT
BEGIN:VEVENT
DTSTART;TZID=America/New_York:20250725T193000
DTEND;TZID=America/New_York:20250725T230000
DTSTAMP:20260419T162157
CREATED:20250620T200842Z
LAST-MODIFIED:20250620T200842Z
UID:1394-1753471800-1753484400@harborlightsri.com
SUMMARY:Live Music: Super Tusk
DESCRIPTION:Join us at our Drift Bar by the Pool and enjoy the amazing music and vocals by Super Tusk! Show up\, have some cocktails\, grab a bite from our Drift Food Truck\, and party the night away! The band plays 7:30-11 pm.
URL:https://harborlightsri.com/events/live-music-super-tusk/
LOCATION:Harbor Lights\, 150 Gray Street\, Warwick\, RI\, 02889
CATEGORIES:Drift Bar,Live Music
ATTACH;FMTTYPE=image/png:https://harborlightsri.com/wp-content/uploads/sites/60/2025/05/catching-blue-5.png
END:VEVENT
BEGIN:VEVENT
DTSTART;TZID=America/New_York:20250801T193000
DTEND;TZID=America/New_York:20250801T223000
DTSTAMP:20260419T162157
CREATED:20250728T213418Z
LAST-MODIFIED:20250728T213418Z
UID:1503-1754076600-1754087400@harborlightsri.com
SUMMARY:Live Music: Salter's Groove HL Debut
DESCRIPTION:Join us at our Drift Bar by the Pool and enjoy the amazing music and Harbor Lights debut by the band Salter’s Groove! Show up\, have some cocktails\, grab a bite from our Drift Food Truck\, and party the night away! The band plays 7:30-10:30 pm.
URL:https://harborlightsri.com/events/live-music-salters-groove-2/
LOCATION:Harbor Lights\, 150 Gray Street\, Warwick\, RI\, 02889
CATEGORIES:Drift Bar,Live Music
ATTACH;FMTTYPE=image/png:https://harborlightsri.com/wp-content/uploads/sites/60/2025/07/Drift-Entertainment-Poster-1.png
END:VEVENT
BEGIN:VEVENT
DTSTART;TZID=America/New_York:20250808T200000
DTEND;TZID=America/New_York:20250808T230000
DTSTAMP:20260419T162157
CREATED:20250805T203724Z
LAST-MODIFIED:20250805T203724Z
UID:1537-1754683200-1754694000@harborlightsri.com
SUMMARY:Live Music: Sorry Sadie
DESCRIPTION:Join us at our Drift Bar by the Pool and enjoy the amazing music and HL debut by Sorry Sadie! Show up\, have some cocktails\, grab a bite from our Drift Food Truck\, and party the night away! The band plays 8-11 pm.
URL:https://harborlightsri.com/events/live-music-sorry-sadie/
LOCATION:Harbor Lights\, 150 Gray Street\, Warwick\, RI\, 02889
CATEGORIES:Drift Bar,Live Music
ATTACH;FMTTYPE=image/png:https://harborlightsri.com/wp-content/uploads/sites/60/2025/08/Drift-Entertainment-Poster-4.png
END:VEVENT
BEGIN:VEVENT
DTSTART;TZID=America/New_York:20250809T193000
DTEND;TZID=America/New_York:20250809T230000
DTSTAMP:20260419T162157
CREATED:20250728T213500Z
LAST-MODIFIED:20250728T213510Z
UID:1506-1754767800-1754780400@harborlightsri.com
SUMMARY:Live Music: Super Tusk
DESCRIPTION:Join us at our Drift Bar by the Pool and enjoy the amazing music and vocals by Super Tusk! Show up\, have some cocktails\, grab a bite from our Drift Food Truck\, and party the night away! The band plays 7:30-11 pm.
URL:https://harborlightsri.com/events/live-music-super-tusk-2/
LOCATION:Harbor Lights\, 150 Gray Street\, Warwick\, RI\, 02889
CATEGORIES:Drift Bar,Live Music
ATTACH;FMTTYPE=image/png:https://harborlightsri.com/wp-content/uploads/sites/60/2025/05/catching-blue-5.png
END:VEVENT
BEGIN:VEVENT
DTSTART;TZID=America/New_York:20250810T180000
DTEND;TZID=America/New_York:20250810T220000
DTSTAMP:20260419T162157
CREATED:20250805T204015Z
LAST-MODIFIED:20250805T204015Z
UID:1543-1754848800-1754863200@harborlightsri.com
SUMMARY:Live Music: Three Days Ago at Drift Bar
DESCRIPTION:Join us for Sunday Funday at Drift Bar by the pool and enjoy the amazing music and Harbor Lights debut by Three Days Ago Band! Show up\, have some cocktails\, grab a bite from our fabulous new menu and party the night away! The band plays 6 – 10pm…see you there!
URL:https://harborlightsri.com/events/live-music-three-days-ago-at-drift-bar/
LOCATION:Harbor Lights\, 150 Gray Street\, Warwick\, RI\, 02889
CATEGORIES:Drift Bar,Live Music
ATTACH;FMTTYPE=image/png:https://harborlightsri.com/wp-content/uploads/sites/60/2025/08/Drift-Entertainment-Poster-5.png
END:VEVENT
BEGIN:VEVENT
DTSTART;TZID=America/New_York:20250815T193000
DTEND;TZID=America/New_York:20250815T223000
DTSTAMP:20260419T162157
CREATED:20250805T204653Z
LAST-MODIFIED:20250805T204653Z
UID:1548-1755286200-1755297000@harborlightsri.com
SUMMARY:Live Music: BIG LUX at Drift Bar
DESCRIPTION:Join us at Drift Bar and enjoy the sounds of the amazing hip hop violinist\, BIG LUX! Show up\, have some cocktails\, grab a bite from our fabulous new menu and party the night away! BIG LUX plays 7:30 – 10:30pm…see you there!
URL:https://harborlightsri.com/events/live-music-big-lux-at-drift-bar/
LOCATION:Harbor Lights\, 150 Gray Street\, Warwick\, RI\, 02889
CATEGORIES:Drift Bar,Live Music
ATTACH;FMTTYPE=image/png:https://harborlightsri.com/wp-content/uploads/sites/60/2025/08/Drift-Entertainment-Poster-6.png
END:VEVENT
BEGIN:VEVENT
DTSTART;TZID=America/New_York:20250816T193000
DTEND;TZID=America/New_York:20250816T230000
DTSTAMP:20260419T162157
CREATED:20250728T215135Z
LAST-MODIFIED:20250728T215135Z
UID:1516-1755372600-1755385200@harborlightsri.com
SUMMARY:Live Music: Sand Sharks at Drift Bar
DESCRIPTION:Join us on Saturday\, June 7th and enjoy the amazing music by Sand Sharks! Show up\, have some cocktails\, grab a bite from our fabulous new menu and party the night away! The band plays 7:30 – 11pm… see you there!
URL:https://harborlightsri.com/events/live-music-sand-sharks-at-drift-bar-3/
LOCATION:Harbor Lights\, 150 Gray Street\, Warwick\, RI\, 02889
CATEGORIES:Drift Bar,Live Music
ATTACH;FMTTYPE=image/png:https://harborlightsri.com/wp-content/uploads/sites/60/2025/05/catching-blue-4-1.png
END:VEVENT
BEGIN:VEVENT
DTSTART;TZID=America/New_York:20250822T190000
DTEND;TZID=America/New_York:20250822T230000
DTSTAMP:20260419T162157
CREATED:20250728T213613Z
LAST-MODIFIED:20250728T213613Z
UID:1508-1755889200-1755903600@harborlightsri.com
SUMMARY:Live Music: The Manatees at Drift Bar
DESCRIPTION:Join us at Drift Bar by the pool and enjoy the amazing dance music by The Manatees! Show up\, have some cocktails\, grab a bite from our fabulous new menu and party the night away! The band plays 7 – 11pm…see you there!
URL:https://harborlightsri.com/events/live-music-the-manatees-at-drift-bar-2/
LOCATION:Harbor Lights\, 150 Gray Street\, Warwick\, RI\, 02889
CATEGORIES:Drift Bar,Live Music
ATTACH;FMTTYPE=image/png:https://harborlightsri.com/wp-content/uploads/sites/60/2025/05/catching-blue-3-1.png
END:VEVENT
BEGIN:VEVENT
DTSTART;TZID=America/New_York:20250823T193000
DTEND;TZID=America/New_York:20250823T230000
DTSTAMP:20260419T162157
CREATED:20250805T205019Z
LAST-MODIFIED:20250805T205019Z
UID:1554-1755977400-1755990000@harborlightsri.com
SUMMARY:Live Music: Playing Mantis at Drift Bar
DESCRIPTION:Join us on Saturday\, August 23rd and enjoy the amazing music and Harbor Lights Debut by Playing Mantis! Show up\, have some cocktails\, grab a bite from our fabulous new menu and party the night away! The band plays 7:30 – 11pm… see you there!
URL:https://harborlightsri.com/events/live-music-playing-mantis-at-drift-bar/
LOCATION:Harbor Lights\, 150 Gray Street\, Warwick\, RI\, 02889
CATEGORIES:Drift Bar,Live Music
ATTACH;FMTTYPE=image/png:https://harborlightsri.com/wp-content/uploads/sites/60/2025/08/Drift-Entertainment-Poster.png
END:VEVENT
BEGIN:VEVENT
DTSTART;TZID=America/New_York:20250829T190000
DTEND;TZID=America/New_York:20250829T230000
DTSTAMP:20260419T162157
CREATED:20250805T204825Z
LAST-MODIFIED:20250805T204840Z
UID:1551-1756494000-1756508400@harborlightsri.com
SUMMARY:Live Music: No Exit 4 at Drift Bar
DESCRIPTION:Join us at Drift Bar by the pool and enjoy the amazing music and HL debut by No Exit 4! Show up\, have some cocktails\, grab a bite from our fabulous new menu and party the night away! The band plays 7 – 11pm…see you there!
URL:https://harborlightsri.com/events/live-music-the-manatees-at-drift-bar-4/
LOCATION:Harbor Lights\, 150 Gray Street\, Warwick\, RI\, 02889
CATEGORIES:Drift Bar,Live Music
ATTACH;FMTTYPE=image/png:https://harborlightsri.com/wp-content/uploads/sites/60/2025/08/Drift-Entertainment-Poster-2.png
END:VEVENT
BEGIN:VEVENT
DTSTART;TZID=America/New_York:20250830T200000
DTEND;TZID=America/New_York:20250830T230000
DTSTAMP:20260419T162157
CREATED:20250805T205241Z
LAST-MODIFIED:20250805T205241Z
UID:1557-1756584000-1756594800@harborlightsri.com
SUMMARY:Live Music: Whisky Knights at Drift Bar
DESCRIPTION:Join us at Drift Bar by the pool and enjoy the amazing music by Whisky Knights! Show up\, have some cocktails\, grab a bite from our fabulous new menu and party the night away! The band plays 8- 11pm…see you there!
URL:https://harborlightsri.com/events/live-music-whisky-knights-at-drift-bar/
LOCATION:Harbor Lights\, 150 Gray Street\, Warwick\, RI\, 02889
CATEGORIES:Drift Bar,Live Music
ATTACH;FMTTYPE=image/png:https://harborlightsri.com/wp-content/uploads/sites/60/2025/08/Drift-Entertainment-Poster-7.png
END:VEVENT
BEGIN:VEVENT
DTSTART;TZID=America/New_York:20250831T190000
DTEND;TZID=America/New_York:20250831T230000
DTSTAMP:20260419T162157
CREATED:20250728T213832Z
LAST-MODIFIED:20250728T221047Z
UID:1514-1756666800-1756681200@harborlightsri.com
SUMMARY:Live Music: Amber Rose & the Renegades
DESCRIPTION:Sunday FUNday…and tomorrow is a holiday!!  Join us at our Drift Bar by the Pool and enjoy the amazing music and vocals by Amber Rose & the Renegades! Show up\, have some cocktails\, grab a bite from our Drift Food Truck\, and party the night away! The band plays 7 -11 pm.
URL:https://harborlightsri.com/events/live-music-amber-rose-the-renegades-4/
LOCATION:Harbor Lights\, 150 Gray Street\, Warwick\, RI\, 02889
CATEGORIES:Drift Bar,Live Music
ATTACH;FMTTYPE=image/png:https://harborlightsri.com/wp-content/uploads/sites/60/2025/05/catching-blue-1.png
END:VEVENT
BEGIN:VEVENT
DTSTART;TZID=America/New_York:20250905T190000
DTEND;TZID=America/New_York:20250905T220000
DTSTAMP:20260419T162157
CREATED:20250902T212603Z
LAST-MODIFIED:20250902T212628Z
UID:1626-1757098800-1757109600@harborlightsri.com
SUMMARY:Live Music: Dos Amigos at Drift Bar
DESCRIPTION:Join us at Drift Bar and enjoy the amazing music by Dos Amigos! Show up\, have some cocktails\, grab a bite from our fabulous new menu and party the night away! The band plays 7 – 10pm…see you there!
URL:https://harborlightsri.com/events/live-music-dos-amigos-at-drift-bar/
LOCATION:Harbor Lights\, 150 Gray Street\, Warwick\, RI\, 02889
CATEGORIES:Drift Bar,Live Music
ATTACH;FMTTYPE=image/png:https://harborlightsri.com/wp-content/uploads/sites/60/2025/09/Drift-Entertainment-Poster-8.png
END:VEVENT
BEGIN:VEVENT
DTSTART;TZID=America/New_York:20250906T190000
DTEND;TZID=America/New_York:20250906T220000
DTSTAMP:20260419T162157
CREATED:20250830T001006Z
LAST-MODIFIED:20250830T001006Z
UID:1608-1757185200-1757196000@harborlightsri.com
SUMMARY:Live Music: Northeast Groove at Drift Bar
DESCRIPTION:Join us at Drift Bar and enjoy the amazing dance music by Northeast Groove! Show up\, have some cocktails\, grab a bite from our fabulous new menu and party the night away! The band plays 7 – 10:00pm…see you there!
URL:https://harborlightsri.com/events/live-music-northeast-groove-at-drift-bar-3/
LOCATION:Harbor Lights\, 150 Gray Street\, Warwick\, RI\, 02889
CATEGORIES:Drift Bar,Live Music
ATTACH;FMTTYPE=image/png:https://harborlightsri.com/wp-content/uploads/sites/60/2025/05/catching-blue-2-1.png
END:VEVENT
BEGIN:VEVENT
DTSTART;TZID=America/New_York:20250913T190000
DTEND;TZID=America/New_York:20250913T220000
DTSTAMP:20260419T162157
CREATED:20250830T001213Z
LAST-MODIFIED:20250830T001213Z
UID:1610-1757790000-1757800800@harborlightsri.com
SUMMARY:Live Music: Catching Blue at Drift Bar
DESCRIPTION:Join us at Drift Bar and enjoy the amazing dance music by Catching Blue! Show up\, have some cocktails\, grab a bite from our fabulous new menu and party the night away! The band plays 7 – 10pm…see you there!
URL:https://harborlightsri.com/events/live-music-catching-blue-at-drift-bar/
LOCATION:Harbor Lights\, 150 Gray Street\, Warwick\, RI\, 02889
CATEGORIES:Drift Bar,Live Music
ATTACH;FMTTYPE=image/png:https://harborlightsri.com/wp-content/uploads/sites/60/2025/05/catching-blue.png
END:VEVENT
BEGIN:VEVENT
DTSTART;TZID=America/New_York:20250920T190000
DTEND;TZID=America/New_York:20250920T223000
DTSTAMP:20260419T162157
CREATED:20250830T000718Z
LAST-MODIFIED:20250830T000718Z
UID:1602-1758394800-1758407400@harborlightsri.com
SUMMARY:Live Music: Three Days Ago at Drift Bar
DESCRIPTION:Join us for the last live music night of 2025 at Drift Bar by the pool and enjoy the amazing music by Three Days Ago Band! Show up\, have some cocktails\, grab a bite from our fabulous new menu and party the night away! The band plays 7 – 10:30pm…see you there!
URL:https://harborlightsri.com/events/live-music-three-days-ago-at-drift-bar-2/
LOCATION:Harbor Lights\, 150 Gray Street\, Warwick\, RI\, 02889
CATEGORIES:Drift Bar,Live Music
ATTACH;FMTTYPE=image/png:https://harborlightsri.com/wp-content/uploads/sites/60/2025/08/Drift-Entertainment-Poster-5.png
END:VEVENT
BEGIN:VEVENT
DTSTART;TZID=America/New_York:20260522T193000
DTEND;TZID=America/New_York:20260522T230000
DTSTAMP:20260419T162157
CREATED:20260305T200717Z
LAST-MODIFIED:20260305T200717Z
UID:2045-1779478200-1779490800@harborlightsri.com
SUMMARY:Live Music: The Manatees at Drift Bar
DESCRIPTION:Join us for the opening night 2026 at Drift Bar by the pool and enjoy the amazing music by The Manatees! Show up\, have some cocktails\, grab a bite from our fabulous new menu and party the night away! The band plays 7:30-11pm…see you there!
URL:https://harborlightsri.com/events/live-music-the-manatees-at-drift-bar-5/
LOCATION:Harbor Lights\, 150 Gray Street\, Warwick\, RI\, 02889
CATEGORIES:Drift Bar,Live Music
ATTACH;FMTTYPE=image/png:https://harborlightsri.com/wp-content/uploads/sites/60/2026/03/Orange-Gradient-Live-Music-Performance-Facebook-Cover-2.png
END:VEVENT
BEGIN:VEVENT
DTSTART;TZID=America/New_York:20260524T190000
DTEND;TZID=America/New_York:20260524T230000
DTSTAMP:20260419T162157
CREATED:20260305T200948Z
LAST-MODIFIED:20260305T200948Z
UID:2048-1779649200-1779663600@harborlightsri.com
SUMMARY:Live Music: BIG LUX at Drift Bar
DESCRIPTION:Join us at Drift Bar and enjoy the sounds of the amazing hip hop violinist\, BIG LUX! Show up\, have some cocktails\, grab a bite from our fabulous new menu and party the night away! BIG LUX plays 7 – 11pm…see you there!
URL:https://harborlightsri.com/events/live-music-big-lux-at-drift-bar-2/
LOCATION:Harbor Lights\, 150 Gray Street\, Warwick\, RI\, 02889
CATEGORIES:Drift Bar,Live Music
ATTACH;FMTTYPE=image/png:https://harborlightsri.com/wp-content/uploads/sites/60/2026/03/Orange-Gradient-Live-Music-Performance-Facebook-Cover-2-1.png
END:VEVENT
BEGIN:VEVENT
DTSTART;TZID=America/New_York:20260529T190000
DTEND;TZID=America/New_York:20260529T230000
DTSTAMP:20260419T162157
CREATED:20260305T201207Z
LAST-MODIFIED:20260305T201453Z
UID:2051-1780081200-1780095600@harborlightsri.com
SUMMARY:Live Music: Amber Rose & the Renegades at Drift Bar
DESCRIPTION:Join us at our Drift Bar by the Pool and enjoy the amazing music and vocals by Amber Rose & the Renegades! Show up\, have some cocktails\, grab a bite from our Drift Food Truck\, and party the night away! The band plays 7 -11 pm.
URL:https://harborlightsri.com/events/live-music-amber-rose-the-renegades-at-drift-bar/
LOCATION:Harbor Lights\, 150 Gray Street\, Warwick\, RI\, 02889
CATEGORIES:Drift Bar,Live Music
ATTACH;FMTTYPE=image/png:https://harborlightsri.com/wp-content/uploads/sites/60/2026/03/Orange-Gradient-Live-Music-Performance-Facebook-Cover-2-2.png
END:VEVENT
END:VCALENDAR