BEGIN:VCALENDAR
VERSION:2.0
PRODID:-//Harbor Lights - Warwick, Rhode Island - ECPv6.15.15//NONSGML v1.0//EN
CALSCALE:GREGORIAN
METHOD:PUBLISH
X-WR-CALNAME:Harbor Lights - Warwick, Rhode Island
X-ORIGINAL-URL:https://harborlightsri.com
X-WR-CALDESC:Events for Harbor Lights - Warwick, Rhode Island
REFRESH-INTERVAL;VALUE=DURATION:PT1H
X-Robots-Tag:noindex
X-PUBLISHED-TTL:PT1H
BEGIN:VTIMEZONE
TZID:America/New_York
BEGIN:DAYLIGHT
TZOFFSETFROM:-0500
TZOFFSETTO:-0400
TZNAME:EDT
DTSTART:20250309T070000
END:DAYLIGHT
BEGIN:STANDARD
TZOFFSETFROM:-0400
TZOFFSETTO:-0500
TZNAME:EST
DTSTART:20251102T060000
END:STANDARD
BEGIN:DAYLIGHT
TZOFFSETFROM:-0500
TZOFFSETTO:-0400
TZNAME:EDT
DTSTART:20260308T070000
END:DAYLIGHT
BEGIN:STANDARD
TZOFFSETFROM:-0400
TZOFFSETTO:-0500
TZNAME:EST
DTSTART:20261101T060000
END:STANDARD
BEGIN:DAYLIGHT
TZOFFSETFROM:-0500
TZOFFSETTO:-0400
TZNAME:EDT
DTSTART:20270314T070000
END:DAYLIGHT
BEGIN:STANDARD
TZOFFSETFROM:-0400
TZOFFSETTO:-0500
TZNAME:EST
DTSTART:20271107T060000
END:STANDARD
END:VTIMEZONE
BEGIN:VEVENT
DTSTART;TZID=America/New_York:20260510T110000
DTEND;TZID=America/New_York:20260510T140000
DTSTAMP:20260424T150108
CREATED:20260403T171843Z
LAST-MODIFIED:20260410T223337Z
UID:2075-1778410800-1778421600@harborlightsri.com
SUMMARY:Mother's Day Brunch
DESCRIPTION:Celebrate Mom in style at Harbor Lights’ Mother’s Day Brunch Buffet in the Grand Ballroom\, featuring a beautifully curated spread of chef-attended stations\, brunch favorites\, indulgent desserts\, and live piano music in an elegant setting. It’s the perfect way to gather with family\, relax\, and treat the special women in your life to a memorable waterfront celebration. \n\n\nSunday\, May 10\, 2026 | 11:00 AM – 2:00 PM \n\n\nPricing: \n\n\n\n$60++ per adult\n\n\n\n\n$25++ per child\n\n\n\n👉 Reserve your table HERE\n\n  \n\n\n\n\nFull Menu \n\n\nWelcome Beverages \n\n\nFreshly Brewed Regular & Decaffeinated Coffee\nAssorted Herbal & Classic Teas\nOrange\, Pineapple\, Cranberry & Grapefruit Juices\nSparkling Water with Citrus & Berry Garnishes\n\n\nChef-Attended Carving Stations \n\n\nHerb-Crusted Prime Rib of Beef – au jus\, creamy horseradish\, whole-grain mustard\nRoasted Turkey Breast – sage gravy\, cranberry-orange relish\nAssorted Dinner Rolls & Butter\n\n\nBreakfast Favorites \n\n\nFluffy Scrambled Eggs\nCrispy Applewood-Smoked Bacon\nPork Sausage Links\nStrawberry Cream Filled French Toast\nBelgian Waffles\nRoasted Garlic & Herb Breakfast Potatoes\n\n\nSpecialty Brunch Items \n\n\nEggs Benedict\nMade-to-Order Omelet Station\nMaryland Lump Crabcakes – Spicy Remoulade\nCrispy Chicken Caprese with Tomato\, Mozzarella\, Basil\, Balsamic Glaze\nCavatappi with Sundried Tomatoes\, Spinach\, Artichoke Cream\n\n\nSalads & Sides \n\n\nSpring Mixed Green Salad\nClassic Caesar Salad\nSeasonal Roasted Vegetables\nFresh Fruit Display\n\n\nDessert Display \n\n\nChocolate-Dipped Strawberries\nSignature Zeppole Plates\nChocolate Mousse Martinis\nAssorted Petit Fours & Cookies\n\n 
URL:https://harborlightsri.com/events/mothers-day-celebration/
LOCATION:Harbor Lights\, 150 Gray Street\, Warwick\, RI\, 02889
CATEGORIES:Club Event
ATTACH;FMTTYPE=image/jpeg:https://harborlightsri.com/wp-content/uploads/sites/60/2026/04/MOTHERS-DAY.jpg
END:VEVENT
END:VCALENDAR